BEGIN:VCALENDAR
VERSION:2.0
PRODID:-//pretix//pretix.eu//
BEGIN:VTIMEZONE
TZID:Europe/Berlin
BEGIN:STANDARD
DTSTART:20001029T040000
RRULE:FREQ=YEARLY;BYDAY=-1SU;BYMONTH=10
TZNAME:CET
TZOFFSETFROM:+0200
TZOFFSETTO:+0100
END:STANDARD
BEGIN:DAYLIGHT
DTSTART:20000326T030000
RRULE:FREQ=YEARLY;BYDAY=-1SU;BYMONTH=3
TZNAME:CEST
TZOFFSETFROM:+0100
TZOFFSETTO:+0200
END:DAYLIGHT
END:VTIMEZONE
BEGIN:VEVENT
UID:pretix-im-schlachthof-z3k7z-0@im-schlachthof.fairetickets.de
DTSTART;TZID=Europe/Berlin:20251205T200000
DTEND;TZID=Europe/Berlin:20251205T210000
DESCRIPTION:Tickets: https://im-schlachthof.fairetickets.de/z3k7z/\nEinlass
 : 05.12.2025 18:30\nVeranstalter: Schlachthof München
DTSTAMP:20260425T231218Z
LOCATION:Wirtshaus im Schlachthof
SUMMARY:XX AUSFALL: Sylvia Brécko - „Liebling das schenken wir uns“
END:VEVENT
END:VCALENDAR
