BEGIN:VCALENDAR
VERSION:2.0
PRODID:-//pretix//pretix.eu//
BEGIN:VTIMEZONE
TZID:Europe/Berlin
BEGIN:STANDARD
DTSTART:20001029T040000
RRULE:FREQ=YEARLY;BYDAY=-1SU;BYMONTH=10
TZNAME:CET
TZOFFSETFROM:+0200
TZOFFSETTO:+0100
END:STANDARD
BEGIN:DAYLIGHT
DTSTART:20000326T030000
RRULE:FREQ=YEARLY;BYDAY=-1SU;BYMONTH=3
TZNAME:CEST
TZOFFSETFROM:+0100
TZOFFSETTO:+0200
END:DAYLIGHT
END:VTIMEZONE
BEGIN:VEVENT
UID:pretix-im-schlachthof-wrpyw-0@im-schlachthof.fairetickets.de
DTSTART;TZID=Europe/Berlin:20250926T200000
DTEND;TZID=Europe/Berlin:20250926T210000
DESCRIPTION:Tickets: https://im-schlachthof.fairetickets.de/wrpyw/\nEinlass
 : 26.09.2025 18:00\nVeranstalter: Schlachthof München
DTSTAMP:20260426T044105Z
LOCATION:Wirtshaus im Schlachthof
SUMMARY:XX Stefan Verra - "Du zum SuperDu" Alltagshelden strahlen wortlos
END:VEVENT
END:VCALENDAR
