BEGIN:VCALENDAR
VERSION:2.0
PRODID:-//pretix//pretix.eu//
BEGIN:VTIMEZONE
TZID:Europe/Berlin
BEGIN:STANDARD
DTSTART:20001029T040000
RRULE:FREQ=YEARLY;BYDAY=-1SU;BYMONTH=10
TZNAME:CET
TZOFFSETFROM:+0200
TZOFFSETTO:+0100
END:STANDARD
BEGIN:DAYLIGHT
DTSTART:20000326T030000
RRULE:FREQ=YEARLY;BYDAY=-1SU;BYMONTH=3
TZNAME:CEST
TZOFFSETFROM:+0100
TZOFFSETTO:+0200
END:DAYLIGHT
END:VTIMEZONE
BEGIN:VEVENT
UID:pretix-im-schlachthof-kvvwf-0@im-schlachthof.fairetickets.de
DTSTART;TZID=Europe/Berlin:20260114T200000
DTEND;TZID=Europe/Berlin:20260114T210000
DESCRIPTION:Tickets: https://im-schlachthof.fairetickets.de/kvvwf/\nEinlass
 : 14.01.2026 18:00\nVeranstalter: Schlachthof München
DTSTAMP:20260425T213648Z
LOCATION:Wirtshaus im Schlachthof
SUMMARY:XX WAHRE VERBRECHEN - Die LiveShow 2026
END:VEVENT
END:VCALENDAR
