BEGIN:VCALENDAR
VERSION:2.0
PRODID:-//pretix//pretix.eu//
BEGIN:VTIMEZONE
TZID:Europe/Berlin
BEGIN:STANDARD
DTSTART:20001029T040000
RRULE:FREQ=YEARLY;BYDAY=-1SU;BYMONTH=10
TZNAME:CET
TZOFFSETFROM:+0200
TZOFFSETTO:+0100
END:STANDARD
BEGIN:DAYLIGHT
DTSTART:20000326T030000
RRULE:FREQ=YEARLY;BYDAY=-1SU;BYMONTH=3
TZNAME:CEST
TZOFFSETFROM:+0100
TZOFFSETTO:+0200
END:DAYLIGHT
END:VTIMEZONE
BEGIN:VEVENT
UID:pretix-im-schlachthof-epvc9-0@im-schlachthof.fairetickets.de
DTSTART;TZID=Europe/Berlin:20260324T200000
DTEND;TZID=Europe/Berlin:20260324T210000
DESCRIPTION:Tickets: https://im-schlachthof.fairetickets.de/epvc9/\nEinlass
 : 24.03.2026 18:00\nVeranstalter: Schlachthof München
DTSTAMP:20260425T181116Z
LOCATION:Wirtshaus im Schlachthof
SUMMARY:XX Schlachthof 2026 - "politisch\, bayerisch & saukomisch"
END:VEVENT
END:VCALENDAR
