BEGIN:VCALENDAR
VERSION:2.0
PRODID:-//pretix//pretix.eu//
BEGIN:VTIMEZONE
TZID:Europe/Berlin
BEGIN:STANDARD
DTSTART:20001029T040000
RRULE:FREQ=YEARLY;BYDAY=-1SU;BYMONTH=10
TZNAME:CET
TZOFFSETFROM:+0200
TZOFFSETTO:+0100
END:STANDARD
BEGIN:DAYLIGHT
DTSTART:20000326T030000
RRULE:FREQ=YEARLY;BYDAY=-1SU;BYMONTH=3
TZNAME:CEST
TZOFFSETFROM:+0100
TZOFFSETTO:+0200
END:DAYLIGHT
END:VTIMEZONE
BEGIN:VEVENT
UID:pretix-im-schlachthof-8m3yp-0@im-schlachthof.fairetickets.de
DTSTART;TZID=Europe/Berlin:20260225T200000
DTEND;TZID=Europe/Berlin:20260225T210000
DESCRIPTION:Tickets: https://im-schlachthof.fairetickets.de/8m3yp/\nEinlass
 : 25.02.2026 18:30\nVeranstalter: Schlachthof München
DTSTAMP:20260421T090209Z
LOCATION:Wirtshaus im Schlachthof
SUMMARY:XX Stephan Lucas - "Täter und Opfer" – True Crime Live on Stage
END:VEVENT
END:VCALENDAR
